BEGIN:VCALENDAR
VERSION:2.0
PRODID:-//eventon.com NONSGML v1.0//EN
CALSCALE:GREGORIAN
METHOD:PUBLISH
BEGIN:VEVENT
UID:69e6696e316bd
DTSTAMP:20260420T175910Z
DTSTART:20211213T160000Z
DTEND:20211213T225000Z
LOCATION:Musikene
SUMMARY:CANCELADO! AUDICIÓN TROMPETA
DESCRIPTION:Alumnado de los profesores Luis González y José Gallego\nhttp
 s://musikene.eus/events/audicion-trompeta-7/?lang=en
URL:https://musikene.eus/events/audicion-trompeta-7/?lang=en
END:VEVENT
END:VCALENDAR