BEGIN:VCALENDAR
VERSION:2.0
PRODID:-//eventon.com NONSGML v1.0//EN
CALSCALE:GREGORIAN
METHOD:PUBLISH
BEGIN:VEVENT
UID:69ecd15e93b50
DTSTAMP:20260425T143614Z
DTSTART:20220308T184500Z
DTEND:20220308T225000Z
LOCATION:Musikene
SUMMARY:PIANO ENTZUNALDIA
DESCRIPTION:Miguel Ituarte irakaslearen ikasleagoa\nhttps://musikene.eus/ev
 ents/audicion-piano-16/?lang=eu
URL:https://musikene.eus/events/audicion-piano-16/?lang=eu
END:VEVENT
END:VCALENDAR