BEGIN:VCALENDAR
VERSION:2.0
PRODID:-//eventon.com NONSGML v1.0//EN
CALSCALE:GREGORIAN
METHOD:PUBLISH
BEGIN:VEVENT
UID:69e98bacdd240
DTSTAMP:20260423T030204Z
DTSTART:20220411T160000Z
DTEND:20220411T215000Z
LOCATION:Musikene
SUMMARY:Audición Saxofón
DESCRIPTION:Alumnado del profesor Miguel Ángel Lorente\nhttps://musikene.e
 us/events/audicion-saxofon-copy/?lang=fr
URL:https://musikene.eus/events/audicion-saxofon-copy/?lang=fr
END:VEVENT
END:VCALENDAR