BEGIN:VCALENDAR
VERSION:2.0
PRODID:-//eventon.com NONSGML v1.0//EN
CALSCALE:GREGORIAN
METHOD:PUBLISH
BEGIN:VEVENT
UID:69e8f4ef4b0ff
DTSTAMP:20260422T161855Z
DTSTART:20220413T170000Z
DTEND:20220413T215000Z
LOCATION:Musikene
SUMMARY:Biolin eta Konposizio ikasleagoaren kontzertua
DESCRIPTION:Programa osoa hemen &nbsp; Ramón Lazkano\,  Gabriel Erkoreka\,
   Zuriñe F. Gerenabarrena\,  Tatiana Samouil eta Izaskun Echeveste irakasl
 een ikasleagoa\nhttps://musikene.eus/events/audicion-alumnado-de-violin-y-c
 omposicion/?lang=eu
URL:https://musikene.eus/events/audicion-alumnado-de-violin-y-composicion/?lang=eu
END:VEVENT
END:VCALENDAR