BEGIN:VCALENDAR
VERSION:2.0
PRODID:-//eventon.com NONSGML v1.0//EN
CALSCALE:GREGORIAN
METHOD:PUBLISH
BEGIN:VEVENT
UID:69eac0a031aac
DTSTAMP:20260424T010016Z
DTSTART:20211011T070000Z
DTEND:20211011T113000Z
LOCATION:Musikene
SUMMARY:Jürgen MANTHEY\,  Luthier
DESCRIPTION:Visita del luthier Jürgen Manthey Lunes: 9:00-13:30 Miércoles
 : 9:00-13:30 Dirigida al alumnado de violín y viola de Musikene\nhttps://m
 usikene.eus/events/jurgen-manthey-luthier/
URL:https://musikene.eus/events/jurgen-manthey-luthier/
END:VEVENT
END:VCALENDAR