BEGIN:VCALENDAR
VERSION:2.0
PRODID:-//eventon.com NONSGML v1.0//EN
CALSCALE:GREGORIAN
METHOD:PUBLISH
BEGIN:VEVENT
UID:69eb00edec593
DTSTAMP:20260424T053437Z
DTSTART:20211005T080000Z
DTEND:20211005T110000Z
LOCATION:Musikene
SUMMARY:MASTERCLASS VIOLONCELLO
DESCRIPTION:ALEXEY STADLER\,  violoncello &nbsp; Lunes: 10:00 -13:00 h Mart
 es: 10:00 -13:00 h &nbsp; Dirigida exclusivamente al alumnado de Musikene &
 nbsp; Convenio AULA JORDÁ. Euskadiko Orkestra / Musikene\nhttps://musikene
 .eus/events/masterclass-violoncello-2/?lang=en
URL:https://musikene.eus/events/masterclass-violoncello-2/?lang=en
END:VEVENT
END:VCALENDAR