BEGIN:VCALENDAR
VERSION:2.0
PRODID:-//eventon.com NONSGML v1.0//EN
CALSCALE:GREGORIAN
METHOD:PUBLISH
BEGIN:VEVENT
UID:69e53f0ad2d5e
DTSTAMP:20260419T204602Z
DTSTART:20211005T080000Z
DTEND:20211005T215000Z
LOCATION:Musikene
SUMMARY:BIOLIN MASTERCLASS
DESCRIPTION:DMITRI MAKHTIN\,  biolina &nbsp; Astelehena: 10:00-13:00 h Aste
 artea: 10:00-13:00 h &nbsp; Musikeneko ikasleei soilik zuzendua &nbsp; JORD
 Á Gela. Euskadiko Orkestra / Musikene\nhttps://musikene.eus/events/biolin-
 masterclass/?lang=eu
URL:https://musikene.eus/events/biolin-masterclass/?lang=eu
END:VEVENT
END:VCALENDAR