BEGIN:VCALENDAR
VERSION:2.0
PRODID:-//eventon.com NONSGML v1.0//EN
CALSCALE:GREGORIAN
METHOD:PUBLISH
BEGIN:VEVENT
UID:69e6848466c9d
DTSTAMP:20260420T195444Z
DTSTART:20211122T190000Z
DTEND:20211122T225000Z
LOCATION:DONOSTIA. Teatro Victoria Eugenia
SUMMARY:Concierto MUSIKENE ORKESTRA SINFONIKOA - ORFEÓN DONOSTIARRA
DESCRIPTION:JOSÉ ANTONIO SAINZ ALFARO\,  director Tanya Durán\,  soprano 
 Cristina del Barrio\,  mezzosoprano Beñat Egiarte\,  tenor David Cervera\,
   bajo &nbsp; PROGRAMA Stabat Mater\,  op.58 &#8211;  A. Dvorák &nbsp; Ve
 nta de entradas aquí \nhttps://musikene.eus/events/kontzertua-musikene-or
 kestra-sinfonikoa-donostiako-orfeoia/?lang=en
URL:https://musikene.eus/events/kontzertua-musikene-orkestra-sinfonikoa-donostiako-orfeoia/?lang=en
END:VEVENT
END:VCALENDAR