BEGIN:VCALENDAR
VERSION:2.0
PRODID:-//eventon.com NONSGML v1.0//EN
CALSCALE:GREGORIAN
METHOD:PUBLISH
BEGIN:VEVENT
UID:69ea8e90ae0cc
DTSTAMP:20260423T212640Z
DTSTART:20210922T173000Z
DTEND:20210922T215000Z
LOCATION:DONOSTIA. Koldo Mitxelena kulturunea
SUMMARY:AKORDEOIA KONTZERTUA
DESCRIPTION:Maitane Arretxe\, akordeoia Igor Estankona\,  poeta &nbsp; Gipu
 zkoako Diputazioak antolatua\nhttps://musikene.eus/events/concierto-acordeo
 n-4/?lang=eu
URL:https://musikene.eus/events/concierto-acordeon-4/?lang=eu
END:VEVENT
END:VCALENDAR