BEGIN:VCALENDAR
VERSION:2.0
PRODID:-//eventon.com NONSGML v1.0//EN
CALSCALE:GREGORIAN
METHOD:PUBLISH
BEGIN:VEVENT
UID:69ea71e4cc033
DTSTAMP:20260423T192420Z
DTSTART:20210922T173000Z
DTEND:20210922T215000Z
LOCATION:DONOSTIA. Koldo Mitxelena kulturunea
SUMMARY:CONCIERTO ACORDEÓN
DESCRIPTION:Maitane Arretxe\,  acordeón Igor Estankona\,  poeta Organizado
  por la Diputación Foral de Gipuzkoa\nhttps://musikene.eus/events/conciert
 o-acordeon-4/
URL:https://musikene.eus/events/concierto-acordeon-4/
END:VEVENT
END:VCALENDAR