BEGIN:VCALENDAR
VERSION:2.0
PRODID:-//eventon.com NONSGML v1.0//EN
CALSCALE:GREGORIAN
METHOD:PUBLISH
BEGIN:VEVENT
UID:69e62a7166801
DTSTAMP:20260420T133025Z
DTSTART:20210616T090000Z
DTEND:20210616T215000Z
LOCATION:Musikene
SUMMARY:CONCIERTO/CONFERENCIA TROMPETA
DESCRIPTION:Concierto/Conferencia Trabajo Fin de Máster Trompeta &nbsp; Ro
 drigo García Heras\,  trompeta Pablo Martínez Peiró\,  trompeta\nhttps:/
 /musikene.eus/events/tronpeta-kontzertu-hitzaldia/?lang=fr
URL:https://musikene.eus/events/tronpeta-kontzertu-hitzaldia/?lang=fr
END:VEVENT
END:VCALENDAR