BEGIN:VCALENDAR
VERSION:2.0
PRODID:-//eventon.com NONSGML v1.0//EN
CALSCALE:GREGORIAN
METHOD:PUBLISH
BEGIN:VEVENT
UID:69e8704a43ea0
DTSTAMP:20260422T065258Z
DTSTART:20210819T173000Z
DTEND:20210819T215000Z
LOCATION:DONOSTIA. Palacio Miramar
SUMMARY:CONCIERTO SAXOFÓN - RAÚL PÉREZ
DESCRIPTION:Raúl Pérez\,  saxofón Leonardo Moyano\,  piano\nhttps://musi
 kene.eus/events/saxofoi-kontzertua-raul-perez/
URL:https://musikene.eus/events/saxofoi-kontzertua-raul-perez/
END:VEVENT
END:VCALENDAR