BEGIN:VCALENDAR
VERSION:2.0
PRODID:-//eventon.com NONSGML v1.0//EN
CALSCALE:GREGORIAN
METHOD:PUBLISH
BEGIN:VEVENT
UID:69e853340ecfb
DTSTAMP:20260422T044852Z
DTSTART:20210819T173000Z
DTEND:20210819T215000Z
LOCATION:DONOSTIA. Palacio Miramar
SUMMARY:SAXOFOI KONTZERTUA - RAÚL PÉREZ
DESCRIPTION:Raúl Pérez\,  saxofoia Leonardo Moyano\,  pianoa\nhttps://mus
 ikene.eus/events/saxofoi-kontzertua-raul-perez/?lang=eu
URL:https://musikene.eus/events/saxofoi-kontzertua-raul-perez/?lang=eu
END:VEVENT
END:VCALENDAR