BEGIN:VCALENDAR
VERSION:2.0
PRODID:-//eventon.com NONSGML v1.0//EN
CALSCALE:GREGORIAN
METHOD:PUBLISH
BEGIN:VEVENT
UID:69ea4d8d88241
DTSTAMP:20260423T164917Z
DTSTART:20210817T173000Z
DTEND:20210817T215000Z
LOCATION:DONOSTIA. Palacio Miramar
SUMMARY:SOSTENUTO TRIOA KONTZERTUA
DESCRIPTION:Ana Sagastizabal\,  sopranoa Aitor Aburto\,  klarinetea Pedro A
 ndino\,  pianoa\nhttps://musikene.eus/events/concierto-trio-sostenuto-3/?la
 ng=eu
URL:https://musikene.eus/events/concierto-trio-sostenuto-3/?lang=eu
END:VEVENT
END:VCALENDAR