BEGIN:VCALENDAR
VERSION:2.0
PRODID:-//eventon.com NONSGML v1.0//EN
CALSCALE:GREGORIAN
METHOD:PUBLISH
BEGIN:VEVENT
UID:69e73c9608d56
DTSTAMP:20260421T090006Z
DTSTART:20210816T173000Z
DTEND:20210816T215000Z
LOCATION:DONOSTIA. Palacio Miramar
SUMMARY:CONCIERTO ARPA - LAIA BARBERÁ
DESCRIPTION:Laia Barberá\,  arpa\nhttps://musikene.eus/events/concierto-ar
 pa/
URL:https://musikene.eus/events/concierto-arpa/
END:VEVENT
END:VCALENDAR