BEGIN:VCALENDAR
VERSION:2.0
PRODID:-//eventon.com NONSGML v1.0//EN
CALSCALE:GREGORIAN
METHOD:PUBLISH
BEGIN:VEVENT
UID:69eaa549bbad6
DTSTAMP:20260423T230337Z
DTSTART:20210623T173000Z
DTEND:20210623T215000Z
LOCATION:DONOSTIA. Koldo Mitxelena kulturunea
SUMMARY:Concierto SAXOFÓN
DESCRIPTION:Iván Catalina\,  saxofón Juan Manuel Uria\,  poeta &nbsp; Org
 anizado por la Diputación Foral de Gipuzkoa &nbsp;\nhttps://musikene.eus/e
 vents/concierto-saxofon-3/?lang=en
URL:https://musikene.eus/events/concierto-saxofon-3/?lang=en
END:VEVENT
END:VCALENDAR