BEGIN:VCALENDAR
VERSION:2.0
PRODID:-//eventon.com NONSGML v1.0//EN
CALSCALE:GREGORIAN
METHOD:PUBLISH
BEGIN:VEVENT
UID:69e5cfd310f94
DTSTAMP:20260420T070347Z
DTSTART:20210610T103000Z
DTEND:20210610T215000Z
LOCATION:Musikene
SUMMARY:JAZZ-TRONPETA Karrera Amaierako Kontzertua
DESCRIPTION:JAZZ-TRONPETA Karrera Amaierako Kontzertua\nhttps://musikene.eu
 s/events/concierto-recital-fin-de-carrera-de-jazz-trompeta/?lang=eu
URL:https://musikene.eus/events/concierto-recital-fin-de-carrera-de-jazz-trompeta/?lang=eu
END:VEVENT
END:VCALENDAR