BEGIN:VCALENDAR
VERSION:2.0
PRODID:-//eventon.com NONSGML v1.0//EN
CALSCALE:GREGORIAN
METHOD:PUBLISH
BEGIN:VEVENT
UID:69e5b68e5a1cc
DTSTAMP:20260420T051558Z
DTSTART:20210610T103000Z
DTEND:20210610T215000Z
LOCATION:Musikene
SUMMARY:Concierto Recital Fin de Carrera de JAZZ-TROMPETA
DESCRIPTION:Concierto Recital Fin de Carrera de JAZZ-TROMPETA\nhttps://musi
 kene.eus/events/concierto-recital-fin-de-carrera-de-jazz-trompeta/?lang=en
URL:https://musikene.eus/events/concierto-recital-fin-de-carrera-de-jazz-trompeta/?lang=en
END:VEVENT
END:VCALENDAR