BEGIN:VCALENDAR
VERSION:2.0
PRODID:-//eventon.com NONSGML v1.0//EN
CALSCALE:GREGORIAN
METHOD:PUBLISH
BEGIN:VEVENT
UID:69e73f68c7b17
DTSTAMP:20260421T091208Z
DTSTART:20210607T080000Z
DTEND:20210607T215000Z
LOCATION:Musikene
SUMMARY:Concierto Recital Fin de Carrera de ARPA
DESCRIPTION:Concierto Recital Fin de Carrera de ARPA\nhttps://musikene.eus/
 events/concierto-recital-fin-de-carrera-de-arpa/?lang=fr
URL:https://musikene.eus/events/concierto-recital-fin-de-carrera-de-arpa/?lang=fr
END:VEVENT
END:VCALENDAR