BEGIN:VCALENDAR
VERSION:2.0
PRODID:-//eventon.com NONSGML v1.0//EN
CALSCALE:GREGORIAN
METHOD:PUBLISH
BEGIN:VEVENT
UID:69e4cfc51bd18
DTSTAMP:20260419T125117Z
DTSTART:20210531T070000Z
DTEND:20210531T215000Z
LOCATION:Musikene
SUMMARY:Concierto Recital Fin de Carrera de FLAUTA
DESCRIPTION:Concierto Recital Fin de Carrera de FLAUTA\nhttps://musikene.eu
 s/events/concierto-recital-fin-de-carrera-de-flauta/
URL:https://musikene.eus/events/concierto-recital-fin-de-carrera-de-flauta/
END:VEVENT
END:VCALENDAR