BEGIN:VCALENDAR
VERSION:2.0
PRODID:-//eventon.com NONSGML v1.0//EN
CALSCALE:GREGORIAN
METHOD:PUBLISH
BEGIN:VEVENT
UID:69ed50104ea29
DTSTAMP:20260425T233648Z
DTSTART:20210513T173000Z
DTEND:20210513T215000Z
LOCATION:Musikene
SUMMARY:TEATRO
DESCRIPTION:Alumnado del profesor Agustín Arrazola\nhttps://musikene.eus/e
 vents/antzerkia/
URL:https://musikene.eus/events/antzerkia/
END:VEVENT
END:VCALENDAR