BEGIN:VCALENDAR
VERSION:2.0
PRODID:-//eventon.com NONSGML v1.0//EN
CALSCALE:GREGORIAN
METHOD:PUBLISH
BEGIN:VEVENT
UID:69ed68a927687
DTSTAMP:20260426T012145Z
DTSTART:20210513T173000Z
DTEND:20210513T215000Z
LOCATION:Musikene
SUMMARY:ANTZERKIA
DESCRIPTION:Agustín Arrazola irakaslearen ikaslegoa\nhttps://musikene.eus/
 events/antzerkia/?lang=eu
URL:https://musikene.eus/events/antzerkia/?lang=eu
END:VEVENT
END:VCALENDAR