BEGIN:VCALENDAR
VERSION:2.0
PRODID:-//eventon.com NONSGML v1.0//EN
CALSCALE:GREGORIAN
METHOD:PUBLISH
BEGIN:VEVENT
UID:69ed91d67c5d7
DTSTAMP:20260426T041726Z
DTSTART:20210527T093000Z
DTEND:20210527T215000Z
LOCATION:Musikene
SUMMARY:Audición CONJUNTO DE JAZZ
DESCRIPTION:Alumnado del profesor Joaquín Chacón\nhttps://musikene.eus/ev
 ents/audicion-conjunto-de-jazz/?lang=fr
URL:https://musikene.eus/events/audicion-conjunto-de-jazz/?lang=fr
END:VEVENT
END:VCALENDAR