BEGIN:VCALENDAR
VERSION:2.0
PRODID:-//eventon.com NONSGML v1.0//EN
CALSCALE:GREGORIAN
METHOD:PUBLISH
BEGIN:VEVENT
UID:69e9a65dc672c
DTSTAMP:20260423T045557Z
DTSTART:20210426T173000Z
DTEND:20210426T183000Z
LOCATION:Musikene
SUMMARY:IKASLEEN ORKESTRA BARROKOA kontzertua
DESCRIPTION:Óscar Rodríguez ikasleak zuzenduta Johan Sebastian Bach. Suit
 e para orquesta Nº 1 en Do mayor (BWV 1066) Jean-Philippe Rameau. Las indi
 as galantes. Suite de orquesta. &nbsp; &nbsp;\nhttps://musikene.eus/events/
 concierto-orquesta-barroca-de-alumnos/?lang=eu
URL:https://musikene.eus/events/concierto-orquesta-barroca-de-alumnos/?lang=eu
END:VEVENT
END:VCALENDAR