BEGIN:VCALENDAR
VERSION:2.0
PRODID:-//eventon.com NONSGML v1.0//EN
CALSCALE:GREGORIAN
METHOD:PUBLISH
BEGIN:VEVENT
UID:69e9c33ccce30
DTSTAMP:20260423T065908Z
DTSTART:20210426T173000Z
DTEND:20210426T183000Z
LOCATION:Musikene
SUMMARY:Concierto ORQUESTA BARROCA DE ALUMNOS
DESCRIPTION:Orquesta Barroca de alumnos de Musikene dirigida por el alumno 
 Óscar Rodríguez. Johan Sebastian Bach. Suite para orquesta Nº 1 en Do ma
 yor (BWV 1066) Jean-Philippe Rameau. Las indias galantes. Suite de orquesta
 . &nbsp; &nbsp;\nhttps://musikene.eus/events/concierto-orquesta-barroca-de-
 alumnos/?lang=fr
URL:https://musikene.eus/events/concierto-orquesta-barroca-de-alumnos/?lang=fr
END:VEVENT
END:VCALENDAR