BEGIN:VCALENDAR
VERSION:2.0
PRODID:-//eventon.com NONSGML v1.0//EN
CALSCALE:GREGORIAN
METHOD:PUBLISH
BEGIN:VEVENT
UID:69ec9648eee3e
DTSTAMP:20260425T102408Z
DTSTART:20210526T110000Z
DTEND:20210526T215000Z
LOCATION:Musikene
SUMMARY:PIANO OSAGARRIA entzunaldia
DESCRIPTION:Alize Mendizabal irakaslearen ikasleagoa\nhttps://musikene.eus/
 events/audicion-piano-complementario-3/?lang=eu
URL:https://musikene.eus/events/audicion-piano-complementario-3/?lang=eu
END:VEVENT
END:VCALENDAR