BEGIN:VCALENDAR
VERSION:2.0
PRODID:-//eventon.com NONSGML v1.0//EN
CALSCALE:GREGORIAN
METHOD:PUBLISH
BEGIN:VEVENT
UID:69e6cf11b7288
DTSTAMP:20260421T011249Z
DTSTART:20210415T173000Z
DTEND:20210415T215000Z
LOCATION:DONOSTIA. Koldo Mitxelena kulturunea
SUMMARY:CONCIERTO VIOLONCELLO
DESCRIPTION:Karmele Castillo\,  violoncello Miren Agur Meabe\,  poeta &nbsp
 ; &nbsp; Organizado por la Diputación Foral de Gipuzkoa\nhttps://musikene.
 eus/events/concierto-violoncello/?lang=fr
URL:https://musikene.eus/events/concierto-violoncello/?lang=fr
END:VEVENT
END:VCALENDAR