BEGIN:VCALENDAR
VERSION:2.0
PRODID:-//eventon.com NONSGML v1.0//EN
CALSCALE:GREGORIAN
METHOD:PUBLISH
BEGIN:VEVENT
UID:69e6fce624c8b
DTSTAMP:20260421T042822Z
DTSTART:20210426T120000Z
DTEND:20210426T215000Z
LOCATION:Musikene
SUMMARY:BIOLIN Entzunaldia
DESCRIPTION:Eirini Gaitani irakaslearen ikaslegoa\nhttps://musikene.eus/eve
 nts/audicion-violin-35/?lang=eu
URL:https://musikene.eus/events/audicion-violin-35/?lang=eu
END:VEVENT
END:VCALENDAR