BEGIN:VCALENDAR
VERSION:2.0
PRODID:-//eventon.com NONSGML v1.0//EN
CALSCALE:GREGORIAN
METHOD:PUBLISH
BEGIN:VEVENT
UID:69e71ced6a9a9
DTSTAMP:20260421T064501Z
DTSTART:20210426T120000Z
DTEND:20210426T215000Z
LOCATION:Musikene
SUMMARY:Audición VIOLÍN
DESCRIPTION:Alumnado de la profesora Eirini Gaitani\nhttps://musikene.eus/e
 vents/audicion-violin-35/
URL:https://musikene.eus/events/audicion-violin-35/
END:VEVENT
END:VCALENDAR