BEGIN:VCALENDAR
VERSION:2.0
PRODID:-//eventon.com NONSGML v1.0//EN
CALSCALE:GREGORIAN
METHOD:PUBLISH
BEGIN:VEVENT
UID:69ea490c3dcfe
DTSTAMP:20260423T163004Z
DTSTART:20210426T070000Z
DTEND:20210428T170000Z
LOCATION:
SUMMARY:BERTAN BEHERA!!! TRONPETA - METALEZKO ENSENBLEA Masterclassa
DESCRIPTION:Musikeneko tronpeta eta Metalezko Ensenble ikasleei irekia &nbs
 p; Apirilak 26\,  astelehena 9:00 &#8211; 10:30 h. Talde-eskolak. Tronpeta 
 ikaslegoa 11:00 &#8211; 13:00 h. Metalezko ensenblearekin eskolak 15:00 &#8
 211; 19:00 h. Tronpeta ikaslegoarentzat piano-jotzailearekin bakarkako esko
 lak Apirilak 27\,  asteartea 9:00 &#8211; 12:00 h. Tronpeta ikaslegoarentza
 t piano-jotzailearekin bakarkako klaseak 12:00 &#8211; 13:00 h.[..]\nhttps:
 //musikene.eus/events/masterclass-trompeta-3/?lang=eu
URL:https://musikene.eus/events/masterclass-trompeta-3/?lang=eu
END:VEVENT
END:VCALENDAR