BEGIN:VCALENDAR
VERSION:2.0
PRODID:-//eventon.com NONSGML v1.0//EN
CALSCALE:GREGORIAN
METHOD:PUBLISH
BEGIN:VEVENT
UID:69ea63a03f2c9
DTSTAMP:20260423T182328Z
DTSTART:20210426T070000Z
DTEND:20210428T170000Z
LOCATION:
SUMMARY:CANCELADO!!! Masterclass TROMPETA - ENSEMBLE DE METALES
DESCRIPTION:Abierta al alumnado de trompeta y de Ensemble de metales de Mus
 ikene &nbsp; Lunes 26 abril 9:00 &#8211; 10:30 h. Clase colectiva. Alumnado
  de trompeta 11:00 &#8211; 13:00 h. Clase con el Ensemble de metales 15:00 
 &#8211; 19:00 h. Clases individuales con pianista para el alumnado de tromp
 eta Martes 27[..]\nhttps://musikene.eus/events/masterclass-trompeta-3/?lang
 =en
URL:https://musikene.eus/events/masterclass-trompeta-3/?lang=en
END:VEVENT
END:VCALENDAR