BEGIN:VCALENDAR
VERSION:2.0
PRODID:-//eventon.com NONSGML v1.0//EN
CALSCALE:GREGORIAN
METHOD:PUBLISH
BEGIN:VEVENT
UID:69e6103ff1d70
DTSTAMP:20260420T113839Z
DTSTART:20210307T230000Z
DTEND:20210309T230000Z
LOCATION:Musikene
SUMMARY:Masterclass BIOLA - ATZERATUTA!!!
DESCRIPTION:Orkestra Ikasketak masterren eta goi mailakoren biola ikasleago
 rentzat Zehaztu beharreko ordutegia\nhttps://musikene.eus/events/masterclas
 s-viola-3/?lang=eu
URL:https://musikene.eus/events/masterclass-viola-3/?lang=eu
END:VEVENT
END:VCALENDAR