BEGIN:VCALENDAR
VERSION:2.0
PRODID:-//eventon.com NONSGML v1.0//EN
CALSCALE:GREGORIAN
METHOD:PUBLISH
BEGIN:VEVENT
UID:69e60ea87d8a4
DTSTAMP:20260420T113152Z
DTSTART:20210307T230000Z
DTEND:20210309T230000Z
LOCATION:Musikene
SUMMARY:Masterclass VIOLA - APLAZADO!!!
DESCRIPTION:Dirigida al alumnado de Máster de Estudios Orquestales y de ti
 tulación superior de viola Horarios por determinar\nhttps://musikene.eus/e
 vents/masterclass-viola-3/
URL:https://musikene.eus/events/masterclass-viola-3/
END:VEVENT
END:VCALENDAR