BEGIN:VCALENDAR
VERSION:2.0
PRODID:-//eventon.com NONSGML v1.0//EN
CALSCALE:GREGORIAN
METHOD:PUBLISH
BEGIN:VEVENT
UID:69e7591b0d581
DTSTAMP:20260421T110147Z
DTSTART:20210115T150000Z
DTEND:20210116T130000Z
LOCATION:Musikene
SUMMARY:Workshop MÃ¡ster InterpretaciÃ³n Jazz
DESCRIPTION:Abierto exclusivamente al alumnado del MÃ¡ster de InterpretaciÃ
 ³n Jazz Horario: Viernes 16:00 &#8211; 21:00 SÃ¡bado 9:00 &#8211; 14:00\nht
 tps://musikene.eus/events/workshop-master-intrepretacion-jazz/
URL:https://musikene.eus/events/workshop-master-intrepretacion-jazz/
END:VEVENT
END:VCALENDAR