BEGIN:VCALENDAR
VERSION:2.0
PRODID:-//eventon.com NONSGML v1.0//EN
CALSCALE:GREGORIAN
METHOD:PUBLISH
BEGIN:VEVENT
UID:69e7bc625bb77
DTSTAMP:20260421T180522Z
DTSTART:20210315T180000Z
DTEND:20210315T225000Z
LOCATION:Musikene
SUMMARY:KLARINETEA\,  KANTUA eta PIANOA KONTZERTUA
DESCRIPTION:José Luis Estellés\,  klarinetea Miren Urbieta\,  sopranoa Am
 aia Zipitria\,  pianoa &nbsp; F. Lachner: Seit ich in (Frauenliebe und Lebe
 n) L. Spohr: Sechs deutsche Lieder op.103 W.A. Mozart:Non più di fiori (Ar
 ia di Vitelia from la Clemenza di Tito) for Basset Horn (clarinet)\,  sopra
 no and piano J. Bach: Zwei Gesänge op.91[..]\nhttps://musikene.eus/events/
 concierto-clarinete-canto-y-piano/?lang=eu
URL:https://musikene.eus/events/concierto-clarinete-canto-y-piano/?lang=eu
END:VEVENT
END:VCALENDAR