BEGIN:VCALENDAR
VERSION:2.0
PRODID:-//eventon.com NONSGML v1.0//EN
CALSCALE:GREGORIAN
METHOD:PUBLISH
BEGIN:VEVENT
UID:69e7da16b45ab
DTSTAMP:20260421T201206Z
DTSTART:20210315T180000Z
DTEND:20210315T225000Z
LOCATION:Musikene
SUMMARY:CONCIERTO CLARINETE\,  CANTO y PIANO
DESCRIPTION:José Luis Estellés\,  clarinete Miren Urbieta\,  soprano Amai
 a Zipitria\,  piano &nbsp; F. Lachner: Seit ich in (Frauenliebe und Leben) 
 L. Spohr: Sechs deutsche Lieder op.103 W.A. Mozart:Non più di fiori (Aria 
 di Vitelia from la Clemenza di Tito) for Basset Horn (clarinet)\,  soprano 
 and piano J. Bach: Zwei Gesänge op.91[..]\nhttps://musikene.eus/events/con
 cierto-clarinete-canto-y-piano/
URL:https://musikene.eus/events/concierto-clarinete-canto-y-piano/
END:VEVENT
END:VCALENDAR