BEGIN:VCALENDAR
VERSION:2.0
PRODID:-//eventon.com NONSGML v1.0//EN
CALSCALE:GREGORIAN
METHOD:PUBLISH
BEGIN:VEVENT
UID:69e7ac715a43f
DTSTAMP:20260421T165721Z
DTSTART:20210201T180000Z
DTEND:20210201T225000Z
LOCATION:Musikene
SUMMARY:PERKUSIO KONTZERTUA
DESCRIPTION:AmetsOLA CDaren aurkezpena Jabi Alonso eta Ainhoa Gutiérrez\, 
  perkusioa Estitxu Oraá\,  biolontxeloa Maddi Arana\,  biolina Javier Saga
 stume\,  bideo eta soinua\nhttps://musikene.eus/events/concierto-percusion/
 ?lang=eu
URL:https://musikene.eus/events/concierto-percusion/?lang=eu
END:VEVENT
END:VCALENDAR