BEGIN:VCALENDAR
VERSION:2.0
PRODID:-//eventon.com NONSGML v1.0//EN
CALSCALE:GREGORIAN
METHOD:PUBLISH
BEGIN:VEVENT
UID:69e7c594b7db4
DTSTAMP:20260421T184436Z
DTSTART:20210201T180000Z
DTEND:20210201T225000Z
LOCATION:Musikene
SUMMARY:CONCIERTO PERCUSIÓN
DESCRIPTION:Presentación del CD AmetsOLA Jabi Alonso y Ainhoa Gutiérrez\,
   percusión Estitxu Oraá\,  violonchelo Maddi Arana\,  violín Javier Sag
 astume\,  vídeo y sonido\nhttps://musikene.eus/events/concierto-percusion/
URL:https://musikene.eus/events/concierto-percusion/
END:VEVENT
END:VCALENDAR