BEGIN:VCALENDAR
VERSION:2.0
PRODID:-//eventon.com NONSGML v1.0//EN
CALSCALE:GREGORIAN
METHOD:PUBLISH
BEGIN:VEVENT
UID:69e80ee7c4d9c
DTSTAMP:20260421T235727Z
DTSTART:20210520T120000Z
DTEND:20210520T215000Z
LOCATION:Musikene
SUMMARY:Audición Violín
DESCRIPTION:Alumnado de los profesores Aitzol Iturriagagoitia y Eirini Gait
 ani\nhttps://musikene.eus/events/audicion-violin-33/
URL:https://musikene.eus/events/audicion-violin-33/
END:VEVENT
END:VCALENDAR