BEGIN:VCALENDAR
VERSION:2.0
PRODID:-//eventon.com NONSGML v1.0//EN
CALSCALE:GREGORIAN
METHOD:PUBLISH
BEGIN:VEVENT
UID:69e73de44faf3
DTSTAMP:20260421T090540Z
DTSTART:20210525T170000Z
DTEND:20210525T215000Z
LOCATION:Musikene
SUMMARY:Hari laukotea Entzunaldia
DESCRIPTION:Andoni Mercero irakaslearen ikasleagoa\nhttps://musikene.eus/ev
 ents/audicion-cuarteto-de-cuerda-6/?lang=eu
URL:https://musikene.eus/events/audicion-cuarteto-de-cuerda-6/?lang=eu
END:VEVENT
END:VCALENDAR