BEGIN:VCALENDAR
VERSION:2.0
PRODID:-//eventon.com NONSGML v1.0//EN
CALSCALE:GREGORIAN
METHOD:PUBLISH
BEGIN:VEVENT
UID:69e92095903b5
DTSTAMP:20260422T192509Z
DTSTART:20201209T163000Z
DTEND:20201209T183000Z
LOCATION:Musikene
SUMMARY:Augusto Techera (Colón Antzokia) Hitzaldia
DESCRIPTION:Ekoizpen artistikoa erakude publikoetatik (online hitzaldia) Co
 lón Antzokiko ekoizpen artistikoaren zuzendaria (Buenos Aires\,  Argentina
 ) Antolatzailea Hauspoz Laguntzailea Musikene &nbsp;\nhttps://musikene.eus/
 events/conferencia-augusto-techera-teatro-colon/?lang=eu
URL:https://musikene.eus/events/conferencia-augusto-techera-teatro-colon/?lang=eu
END:VEVENT
END:VCALENDAR