BEGIN:VCALENDAR
VERSION:2.0
PRODID:-//eventon.com NONSGML v1.0//EN
CALSCALE:GREGORIAN
METHOD:PUBLISH
BEGIN:VEVENT
UID:69e69088e0f68
DTSTAMP:20260420T204600Z
DTSTART:20201217T140000Z
DTEND:20201217T225000Z
LOCATION:Musikene
SUMMARY:Audición Violín
DESCRIPTION:Alumnado de los profesores Aitzol Iturriagagoitia y Eirini Gait
 ani\nhttps://musikene.eus/events/biolin-entzunaldia-4/
URL:https://musikene.eus/events/biolin-entzunaldia-4/
END:VEVENT
END:VCALENDAR