BEGIN:VCALENDAR
VERSION:2.0
PRODID:-//eventon.com NONSGML v1.0//EN
CALSCALE:GREGORIAN
METHOD:PUBLISH
BEGIN:VEVENT
UID:69e6740730fb9
DTSTAMP:20260420T184423Z
DTSTART:20201217T140000Z
DTEND:20201217T225000Z
LOCATION:Musikene
SUMMARY:Biolin Entzunaldia
DESCRIPTION:Aitzol Iturriagagoitia eta Eirini Gaitani irakasleen ikaslegoa\
 nhttps://musikene.eus/events/biolin-entzunaldia-4/?lang=eu
URL:https://musikene.eus/events/biolin-entzunaldia-4/?lang=eu
END:VEVENT
END:VCALENDAR