BEGIN:VCALENDAR
VERSION:2.0
PRODID:-//eventon.com NONSGML v1.0//EN
CALSCALE:GREGORIAN
METHOD:PUBLISH
BEGIN:VEVENT
UID:69e61e2b8ed27
DTSTAMP:20260420T123803Z
DTSTART:20201130T150000Z
DTEND:20201202T190000Z
LOCATION:Musikene
SUMMARY:AURELIANO CATTANEO. Konposizio ikastaroa
DESCRIPTION:Musika Garaikideko Konposizio ikastaroa Atelehena\,  asteartea 
 eta asteazkena: 16:00 &#8211; 20:00 h. Antolatzailea\,  MUSIKAGILEAK Lagunt
 zailea\,  MUSIKENE\nhttps://musikene.eus/events/curso-de-composicion-aureli
 ano-cattaneo/?lang=eu
URL:https://musikene.eus/events/curso-de-composicion-aureliano-cattaneo/?lang=eu
END:VEVENT
END:VCALENDAR