BEGIN:VCALENDAR
VERSION:2.0
PRODID:-//eventon.com NONSGML v1.0//EN
CALSCALE:GREGORIAN
METHOD:PUBLISH
BEGIN:VEVENT
UID:69e637e15bf96
DTSTAMP:20260420T142745Z
DTSTART:20201130T150000Z
DTEND:20201202T190000Z
LOCATION:Musikene
SUMMARY:Curso de Composición. AURELIANO CATTANEO
DESCRIPTION:Curso de Composición de Música Contemporánea Lunes\,  martes
  y miércoles: 16:00 &#8211; 20:00 h Organiza MUSIKAGILEAK Colabora MUSIKEN
 E\nhttps://musikene.eus/events/curso-de-composicion-aureliano-cattaneo/
URL:https://musikene.eus/events/curso-de-composicion-aureliano-cattaneo/
END:VEVENT
END:VCALENDAR