BEGIN:VCALENDAR
VERSION:2.0
PRODID:-//eventon.com NONSGML v1.0//EN
CALSCALE:GREGORIAN
METHOD:PUBLISH
BEGIN:VEVENT
UID:69e90c601dc71
DTSTAMP:20260422T175856Z
DTSTART:20201217T103000Z
DTEND:20201217T225000Z
LOCATION:Musikene
SUMMARY:OBOE entzunaldia - ORDUTEGI ZUZENKETA!
DESCRIPTION:Christian Wetzel\,  Laura Marcos  eta Pedro José Rodríguez L
 arrañaga irakasleen ikasleagoa\nhttps://musikene.eus/events/audicion-oboe-
 7/?lang=eu
URL:https://musikene.eus/events/audicion-oboe-7/?lang=eu
END:VEVENT
END:VCALENDAR