BEGIN:VCALENDAR
VERSION:2.0
PRODID:-//eventon.com NONSGML v1.0//EN
CALSCALE:GREGORIAN
METHOD:PUBLISH
BEGIN:VEVENT
UID:69e72f7b7d623
DTSTAMP:20260421T080411Z
DTSTART:20201112T150000Z
DTEND:20201112T170000Z
LOCATION:Musikene
SUMMARY:Encuentro Dirección de Orquesta - EXCLUSIVAMENTE ALUMNADO!!!
DESCRIPTION:Charla con Franck Ollu Dirigido a los alumnos de Dirección de 
 Musikene\nhttps://musikene.eus/events/encuentro-direccion-de-orquesta-exclu
 sivamente-alumnado/
URL:https://musikene.eus/events/encuentro-direccion-de-orquesta-exclusivamente-alumnado/
END:VEVENT
END:VCALENDAR