BEGIN:VCALENDAR
VERSION:2.0
PRODID:-//eventon.com NONSGML v1.0//EN
CALSCALE:GREGORIAN
METHOD:PUBLISH
BEGIN:VEVENT
UID:69e5b78a186c7
DTSTAMP:20260420T052010Z
DTSTART:20201110T150000Z
DTEND:20201110T170000Z
LOCATION:Musikene
SUMMARY:Masterclass Dirección- EXCLUSIVAMENTE ALUMNADO!!!
DESCRIPTION:Dirigido a los alumnos de Dirección de Musikene\nhttps://musik
 ene.eus/events/masterclass-direccion-exclusivamente-alumnado/?lang=en
URL:https://musikene.eus/events/masterclass-direccion-exclusivamente-alumnado/?lang=en
END:VEVENT
END:VCALENDAR