BEGIN:VCALENDAR
VERSION:2.0
PRODID:-//eventon.com NONSGML v1.0//EN
CALSCALE:GREGORIAN
METHOD:PUBLISH
BEGIN:VEVENT
UID:69ecdfb8e1346
DTSTAMP:20260425T153728Z
DTSTART:20201221T150000Z
DTEND:20201221T225000Z
LOCATION:Musikene
SUMMARY:Audición Acordeón
DESCRIPTION:Alumnado del profesor Iñaki Alberdi\nhttps://musikene.eus/even
 ts/audicion-acordeon-6/
URL:https://musikene.eus/events/audicion-acordeon-6/
END:VEVENT
END:VCALENDAR