BEGIN:VCALENDAR
VERSION:2.0
PRODID:-//eventon.com NONSGML v1.0//EN
CALSCALE:GREGORIAN
METHOD:PUBLISH
BEGIN:VEVENT
UID:69ea9330d8e06
DTSTAMP:20260423T214624Z
DTSTART:20201105T160000Z
DTEND:20201105T225000Z
LOCATION:Musikene
SUMMARY:Audición VIOLA
DESCRIPTION:Alumnado de los profesores N. Tchitch e I. Jagla\nhttps://musik
 ene.eus/events/audicion-viola-4/
URL:https://musikene.eus/events/audicion-viola-4/
END:VEVENT
END:VCALENDAR